BEGIN:VCALENDAR
VERSION:2.0
PRODID:-//Waldorfschule Potsdam - ECPv6.15.20//NONSGML v1.0//EN
CALSCALE:GREGORIAN
METHOD:PUBLISH
X-WR-CALNAME:Waldorfschule Potsdam
X-ORIGINAL-URL:https://waldorfschule-potsdam.de
X-WR-CALDESC:Veranstaltungen für Waldorfschule Potsdam
REFRESH-INTERVAL;VALUE=DURATION:PT1H
X-Robots-Tag:noindex
X-PUBLISHED-TTL:PT1H
BEGIN:VTIMEZONE
TZID:Europe/Berlin
BEGIN:DAYLIGHT
TZOFFSETFROM:+0100
TZOFFSETTO:+0200
TZNAME:CEST
DTSTART:20250330T010000
END:DAYLIGHT
BEGIN:STANDARD
TZOFFSETFROM:+0200
TZOFFSETTO:+0100
TZNAME:CET
DTSTART:20251026T010000
END:STANDARD
BEGIN:DAYLIGHT
TZOFFSETFROM:+0100
TZOFFSETTO:+0200
TZNAME:CEST
DTSTART:20260329T010000
END:DAYLIGHT
BEGIN:STANDARD
TZOFFSETFROM:+0200
TZOFFSETTO:+0100
TZNAME:CET
DTSTART:20261025T010000
END:STANDARD
BEGIN:DAYLIGHT
TZOFFSETFROM:+0100
TZOFFSETTO:+0200
TZNAME:CEST
DTSTART:20270328T010000
END:DAYLIGHT
BEGIN:STANDARD
TZOFFSETFROM:+0200
TZOFFSETTO:+0100
TZNAME:CET
DTSTART:20271031T010000
END:STANDARD
END:VTIMEZONE
BEGIN:VEVENT
DTSTART;VALUE=DATE:20260423
DTEND;VALUE=DATE:20260425
DTSTAMP:20260423T114758
CREATED:20260416T102301Z
LAST-MODIFIED:20260422T171617Z
UID:8583-1776902400-1777075199@waldorfschule-potsdam.de
SUMMARY:Marionettenspiel der 7. Klasse
DESCRIPTION:Do.\, 23.04. um 10:30 Uhr und \n\n\nFr.\, 24.04. um 10:30 & 16:00 Uhr
URL:https://waldorfschule-potsdam.de/event/marionettenspiel-der-7-klasse/
LOCATION:Waldorfschule Potsdam\, Erich-Weinert-Straße 5\, Potsdam\, Deutschland
END:VEVENT
END:VCALENDAR