BEGIN:VCALENDAR
VERSION:2.0
PRODID:-//Waldorfschule Potsdam - ECPv6.15.20//NONSGML v1.0//EN
CALSCALE:GREGORIAN
METHOD:PUBLISH
X-WR-CALNAME:Waldorfschule Potsdam
X-ORIGINAL-URL:https://waldorfschule-potsdam.de
X-WR-CALDESC:Veranstaltungen für Waldorfschule Potsdam
REFRESH-INTERVAL;VALUE=DURATION:PT1H
X-Robots-Tag:noindex
X-PUBLISHED-TTL:PT1H
BEGIN:VTIMEZONE
TZID:Europe/Berlin
BEGIN:DAYLIGHT
TZOFFSETFROM:+0100
TZOFFSETTO:+0200
TZNAME:CEST
DTSTART:20250330T010000
END:DAYLIGHT
BEGIN:STANDARD
TZOFFSETFROM:+0200
TZOFFSETTO:+0100
TZNAME:CET
DTSTART:20251026T010000
END:STANDARD
BEGIN:DAYLIGHT
TZOFFSETFROM:+0100
TZOFFSETTO:+0200
TZNAME:CEST
DTSTART:20260329T010000
END:DAYLIGHT
BEGIN:STANDARD
TZOFFSETFROM:+0200
TZOFFSETTO:+0100
TZNAME:CET
DTSTART:20261025T010000
END:STANDARD
BEGIN:DAYLIGHT
TZOFFSETFROM:+0100
TZOFFSETTO:+0200
TZNAME:CEST
DTSTART:20270328T010000
END:DAYLIGHT
BEGIN:STANDARD
TZOFFSETFROM:+0200
TZOFFSETTO:+0100
TZNAME:CET
DTSTART:20271031T010000
END:STANDARD
BEGIN:DAYLIGHT
TZOFFSETFROM:+0100
TZOFFSETTO:+0200
TZNAME:CEST
DTSTART:20280326T010000
END:DAYLIGHT
BEGIN:STANDARD
TZOFFSETFROM:+0200
TZOFFSETTO:+0100
TZNAME:CET
DTSTART:20281029T010000
END:STANDARD
END:VTIMEZONE
BEGIN:VEVENT
DTSTART;VALUE=DATE:20260423
DTEND;VALUE=DATE:20260425
DTSTAMP:20260420T095539
CREATED:20260416T102301Z
LAST-MODIFIED:20260416T102644Z
UID:8583-1776902400-1777075199@waldorfschule-potsdam.de
SUMMARY:Marionettenspiel der 7. Klasse
DESCRIPTION:Do.\, 23.04. um 11:00 Uhr und \n\n\nFr.\, 24.04. um 11:00 & 16:00 Uhr
URL:https://waldorfschule-potsdam.de/event/marionettenspiel-der-7-klasse/
LOCATION:Waldorfschule Potsdam\, Erich-Weinert-Straße 5\, Potsdam\, Deutschland
END:VEVENT
BEGIN:VEVENT
DTSTART;TZID=Europe/Berlin:20260425T110000
DTEND;TZID=Europe/Berlin:20260425T140000
DTSTAMP:20260420T095539
CREATED:20260225T064323Z
LAST-MODIFIED:20260225T064323Z
UID:8415-1777114800-1777125600@waldorfschule-potsdam.de
SUMMARY:Tag der offenen Tür im Kindergarten
DESCRIPTION:Liebe Eltern\, liebe Interessierte\, am Sa.\, 25.04.26 findet von 11:00-14:00 Uhr unser Tag der offenen Tür statt\, gleichzeitig feiern wir an dem Tag „100 Jahre Waldorfkindergärten“.\nSie sind herzlich eingeladen\, wir freuen uns auf Sie 🌷
URL:https://waldorfschule-potsdam.de/event/tag-der-offenen-tuer-im-kindergarten-2/
CATEGORIES:Kindergarten
END:VEVENT
BEGIN:VEVENT
DTSTART;VALUE=DATE:20260501
DTEND;VALUE=DATE:20260502
DTSTAMP:20260420T095539
CREATED:20250728T092932Z
LAST-MODIFIED:20250728T092932Z
UID:7762-1777593600-1777679999@waldorfschule-potsdam.de
SUMMARY:Tag der Arbeit
DESCRIPTION:Schule\, Hort und Kindergarten geschlossen.
URL:https://waldorfschule-potsdam.de/event/tag-der-arbeit-3/
CATEGORIES:Kindergarten,Schule
END:VEVENT
BEGIN:VEVENT
DTSTART;VALUE=DATE:20260507
DTEND;VALUE=DATE:20260511
DTSTAMP:20260420T095539
CREATED:20260416T104137Z
LAST-MODIFIED:20260416T105205Z
UID:8596-1778112000-1778457599@waldorfschule-potsdam.de
SUMMARY:8.-Klass-Stück: „Der Drache“ von Jewgeni Schwarz jew. ab 19:30 Uhr
DESCRIPTION:Jeweils um 19:30 Uhr wird das 8. Klass-Stück „Der Drache“ von Jewgeni Schwarz aufgeführt. \n07.05. – 10.05.2026 \nSeien Sie herzlich eingeladen – wir freuen uns auf Sie! 
URL:https://waldorfschule-potsdam.de/event/8-klass-stueck-der-drache-von-jewgeni-schwarz-ab-1930-uhr/
LOCATION:Waldorfschule Potsdam\, Erich-Weinert-Straße 5\, Potsdam\, Deutschland
END:VEVENT
BEGIN:VEVENT
DTSTART;TZID=Europe/Berlin:20260507T170000
DTEND;TZID=Europe/Berlin:20260507T190000
DTSTAMP:20260420T095539
CREATED:20260225T071247Z
LAST-MODIFIED:20260225T071247Z
UID:8420-1778173200-1778180400@waldorfschule-potsdam.de
SUMMARY:Kennenlern-Elternabend im Kindergarten
DESCRIPTION:Weitere Informationen folgen. \nWir freuen uns auf Sie!
URL:https://waldorfschule-potsdam.de/event/kennenlern-elternabend-im-kindergarten-2/
CATEGORIES:Kindergarten
END:VEVENT
BEGIN:VEVENT
DTSTART;VALUE=DATE:20260514
DTEND;VALUE=DATE:20260515
DTSTAMP:20260420T095539
CREATED:20250728T093117Z
LAST-MODIFIED:20250728T093117Z
UID:7764-1778716800-1778803199@waldorfschule-potsdam.de
SUMMARY:Christi Himmelfahrt
DESCRIPTION:Schule\, Hort und Kindergarten geschlossen.
URL:https://waldorfschule-potsdam.de/event/christi-himmelfahrt-3/
CATEGORIES:Kindergarten,Schule
END:VEVENT
BEGIN:VEVENT
DTSTART;VALUE=DATE:20260515
DTEND;VALUE=DATE:20260516
DTSTAMP:20260420T095539
CREATED:20250728T093233Z
LAST-MODIFIED:20260219T091956Z
UID:7766-1778803200-1778889599@waldorfschule-potsdam.de
SUMMARY:Schließzeit Hort und Kindergarten (Brückentag)
DESCRIPTION:Brückentag – Schule\, Hort und Kindergarten geschlossen
URL:https://waldorfschule-potsdam.de/event/schliesszeit-hort-brueckentag-5/
CATEGORIES:Kindergarten,Schule
END:VEVENT
BEGIN:VEVENT
DTSTART;VALUE=DATE:20260525
DTEND;VALUE=DATE:20260526
DTSTAMP:20260420T095539
CREATED:20250728T093359Z
LAST-MODIFIED:20250728T093359Z
UID:7768-1779667200-1779753599@waldorfschule-potsdam.de
SUMMARY:Pfingstmontag 🕊️
DESCRIPTION:Schule\, Hort und Kindergarten geschlossen.
URL:https://waldorfschule-potsdam.de/event/pfingstmontag-%f0%9f%95%8a%ef%b8%8f/
CATEGORIES:Kindergarten,Schule
END:VEVENT
BEGIN:VEVENT
DTSTART;VALUE=DATE:20260526
DTEND;VALUE=DATE:20260530
DTSTAMP:20260420T095539
CREATED:20250728T093456Z
LAST-MODIFIED:20260219T092045Z
UID:7770-1779753600-1780099199@waldorfschule-potsdam.de
SUMMARY:Pfingstferien
DESCRIPTION:Schule\, Hort und Kindergarten geschlossen.
URL:https://waldorfschule-potsdam.de/event/pfingstferien/
CATEGORIES:Kindergarten,Schule
END:VEVENT
BEGIN:VEVENT
DTSTART;TZID=Europe/Berlin:20260613T100000
DTEND;TZID=Europe/Berlin:20260613T140000
DTSTAMP:20260420T095539
CREATED:20260416T102430Z
LAST-MODIFIED:20260416T102605Z
UID:8585-1781344800-1781359200@waldorfschule-potsdam.de
SUMMARY:Monatsfeier mit Flohmarkt
DESCRIPTION:
URL:https://waldorfschule-potsdam.de/event/monatsfeier-mit-flohmarkt/
LOCATION:Waldorfschule Potsdam\, Erich-Weinert-Straße 5\, Potsdam\, Deutschland
END:VEVENT
BEGIN:VEVENT
DTSTART;VALUE=DATE:20260620
DTEND;VALUE=DATE:20260621
DTSTAMP:20260420T095539
CREATED:20260416T102525Z
LAST-MODIFIED:20260416T103344Z
UID:8588-1781913600-1781999999@waldorfschule-potsdam.de
SUMMARY:Tanzball der 9. Klasse
DESCRIPTION:
URL:https://waldorfschule-potsdam.de/event/tanzball-der-9-klasse/
LOCATION:Waldorfschule Potsdam\, Erich-Weinert-Straße 5\, Potsdam\, Deutschland
END:VEVENT
BEGIN:VEVENT
DTSTART;VALUE=DATE:20260707
DTEND;VALUE=DATE:20260708
DTSTAMP:20260420T095539
CREATED:20260416T102754Z
LAST-MODIFIED:20260416T102754Z
UID:8590-1783382400-1783468799@waldorfschule-potsdam.de
SUMMARY:Fest der Abschlüsse
DESCRIPTION:
URL:https://waldorfschule-potsdam.de/event/fest-der-abschluesse-2/
LOCATION:Waldorfschule Potsdam\, Erich-Weinert-Straße 5\, Potsdam\, Deutschland
END:VEVENT
BEGIN:VEVENT
DTSTART;VALUE=DATE:20260709
DTEND;VALUE=DATE:20260822
DTSTAMP:20260420T095539
CREATED:20250728T093629Z
LAST-MODIFIED:20250728T093629Z
UID:7772-1783555200-1787356799@waldorfschule-potsdam.de
SUMMARY:Sommerferien 🌞
DESCRIPTION:
URL:https://waldorfschule-potsdam.de/event/sommerferien-%f0%9f%8c%9e-3/
CATEGORIES:Kindergarten,Schule
END:VEVENT
BEGIN:VEVENT
DTSTART;VALUE=DATE:20260709
DTEND;VALUE=DATE:20260725
DTSTAMP:20260420T095539
CREATED:20260218T115729Z
LAST-MODIFIED:20260218T115729Z
UID:8334-1783555200-1784937599@waldorfschule-potsdam.de
SUMMARY:Feriengruppe Hort nach Anmeldung
DESCRIPTION:
URL:https://waldorfschule-potsdam.de/event/feriengruppe-hort-nach-anmeldung/
CATEGORIES:Kindergarten,Schule
END:VEVENT
BEGIN:VEVENT
DTSTART;VALUE=DATE:20260709
DTEND;VALUE=DATE:20260711
DTSTAMP:20260420T095539
CREATED:20260219T091743Z
LAST-MODIFIED:20260219T091743Z
UID:8383-1783555200-1783727999@waldorfschule-potsdam.de
SUMMARY:Kollegiumsarbeit Kindergarten
DESCRIPTION:Bitte beachten: Kindergarten geschlossen – Kollegiumsarbeit mit dem gesamten Kindergartenkollegium. Keine Notbetreuung!
URL:https://waldorfschule-potsdam.de/event/kollegiumsarbeit-kindergarten-2/
CATEGORIES:Kindergarten
END:VEVENT
BEGIN:VEVENT
DTSTART;VALUE=DATE:20260713
DTEND;VALUE=DATE:20260725
DTSTAMP:20260420T095539
CREATED:20260219T091454Z
LAST-MODIFIED:20260219T091454Z
UID:8379-1783900800-1784937599@waldorfschule-potsdam.de
SUMMARY:Sommer: Ferienbetreuung 1 Kindergarten
DESCRIPTION:
URL:https://waldorfschule-potsdam.de/event/sommer-ferienbetreuung-1-kindergarten/
CATEGORIES:Kindergarten
END:VEVENT
BEGIN:VEVENT
DTSTART;VALUE=DATE:20260727
DTEND;VALUE=DATE:20260815
DTSTAMP:20260420T095539
CREATED:20260218T115856Z
LAST-MODIFIED:20260218T115856Z
UID:8336-1785110400-1786751999@waldorfschule-potsdam.de
SUMMARY:Hort geschlossen (Sommerferien)
DESCRIPTION:
URL:https://waldorfschule-potsdam.de/event/hort-geschlossen-sommerferien/
END:VEVENT
BEGIN:VEVENT
DTSTART;VALUE=DATE:20260727
DTEND;VALUE=DATE:20260815
DTSTAMP:20260420T095539
CREATED:20260219T092233Z
LAST-MODIFIED:20260219T092233Z
UID:8387-1785110400-1786751999@waldorfschule-potsdam.de
SUMMARY:Sommerferien-Schließzeit Kindergarten
DESCRIPTION:
URL:https://waldorfschule-potsdam.de/event/sommerferien-schliesszeit-kindergarten-3/
CATEGORIES:Kindergarten
END:VEVENT
BEGIN:VEVENT
DTSTART;VALUE=DATE:20260817
DTEND;VALUE=DATE:20260821
DTSTAMP:20260420T095539
CREATED:20260218T120026Z
LAST-MODIFIED:20260219T081042Z
UID:8338-1786924800-1787270399@waldorfschule-potsdam.de
SUMMARY:Notbetreuungsgruppe Hort – Anmeldung erforderlich
DESCRIPTION:
URL:https://waldorfschule-potsdam.de/event/notbetreuungsgruppe-hort-anmeldung-erforderlich/
CATEGORIES:Kindergarten,Schule
END:VEVENT
BEGIN:VEVENT
DTSTART;VALUE=DATE:20260817
DTEND;VALUE=DATE:20260822
DTSTAMP:20260420T095539
CREATED:20260219T091552Z
LAST-MODIFIED:20260219T091552Z
UID:8381-1786924800-1787356799@waldorfschule-potsdam.de
SUMMARY:Sommer: Ferienbetreuung 2 Kindergarten
DESCRIPTION:
URL:https://waldorfschule-potsdam.de/event/sommer-ferienbetreuung-2-kindergarten/
CATEGORIES:Kindergarten
END:VEVENT
BEGIN:VEVENT
DTSTART;VALUE=DATE:20260821
DTEND;VALUE=DATE:20260822
DTSTAMP:20260420T095539
CREATED:20260219T081147Z
LAST-MODIFIED:20260219T092401Z
UID:8347-1787270400-1787356799@waldorfschule-potsdam.de
SUMMARY:Teamtag Hort (Hort geschlossen)
DESCRIPTION:
URL:https://waldorfschule-potsdam.de/event/teamtag-hort-geschlossen/
CATEGORIES:Kindergarten,Schule
END:VEVENT
BEGIN:VEVENT
DTSTART;VALUE=DATE:20260824
DTEND;VALUE=DATE:20260825
DTSTAMP:20260420T095539
CREATED:20250728T093742Z
LAST-MODIFIED:20250728T093742Z
UID:7774-1787529600-1787615999@waldorfschule-potsdam.de
SUMMARY:Erster Schultag nach den Sommerferien
DESCRIPTION:Schulbeginn 8:10 Uhr. Herzlich willkommen zurück 🌼
URL:https://waldorfschule-potsdam.de/event/erster-schultag-nach-den-sommerferien-5/
LOCATION:Waldorfschule Potsdam\, Erich-Weinert-Straße 5\, Potsdam\, Deutschland
CATEGORIES:Kindergarten,Schule
END:VEVENT
BEGIN:VEVENT
DTSTART;TZID=Europe/Berlin:20260829T100000
DTEND;TZID=Europe/Berlin:20260829T130000
DTSTAMP:20260420T095539
CREATED:20260416T103429Z
LAST-MODIFIED:20260416T103429Z
UID:8592-1787997600-1788008400@waldorfschule-potsdam.de
SUMMARY:Einschulungsfeier
DESCRIPTION:
URL:https://waldorfschule-potsdam.de/event/einschulungsfeier/
LOCATION:Waldorfschule Potsdam\, Erich-Weinert-Straße 5\, Potsdam\, Deutschland
END:VEVENT
BEGIN:VEVENT
DTSTART;VALUE=DATE:20261019
DTEND;VALUE=DATE:20261031
DTSTAMP:20260420T095539
CREATED:20250728T094214Z
LAST-MODIFIED:20250728T094214Z
UID:7776-1792368000-1793404799@waldorfschule-potsdam.de
SUMMARY:Herbstferien 🍂
DESCRIPTION:Der Sommer zieht von hinnen\,\nUnd sagt uns leis‘ Adé.\nKaum dass wir uns besinnen\,\nHängt Nebel überm See. \nDer Herbst mit bunten Streifen\nZum Erntefest uns drängt.\nEr lässt nun alles reifen\,\nWas auf den Bäumen hängt. \nDie Äpfel\, Birnen\, Pflaumen\,\nDie Trauben groß und klein\,\nIn unsren schönen Körben\,\nDa tragen wir sie heim.
URL:https://waldorfschule-potsdam.de/event/herbstferien-%f0%9f%8d%82-3/
CATEGORIES:Kindergarten,Schule
END:VEVENT
BEGIN:VEVENT
DTSTART;VALUE=DATE:20261223
DTEND;VALUE=DATE:20270102
DTSTAMP:20260420T095539
CREATED:20250728T094506Z
LAST-MODIFIED:20250728T094506Z
UID:7778-1797984000-1798847999@waldorfschule-potsdam.de
SUMMARY:Weihnachtsferien 🎄
DESCRIPTION:Schule\, Hort und Kindergarten geschlossen. Wir wünschen fröhliche Weihnachten!
URL:https://waldorfschule-potsdam.de/event/weihnachtsferien-%f0%9f%8e%84-3/
CATEGORIES:Kindergarten,Schule
END:VEVENT
BEGIN:VEVENT
DTSTART;VALUE=DATE:20270104
DTEND;VALUE=DATE:20270105
DTSTAMP:20260420T095539
CREATED:20250728T094618Z
LAST-MODIFIED:20250728T094618Z
UID:7780-1799020800-1799107199@waldorfschule-potsdam.de
SUMMARY:Erster Schultag nach den Weihnachtsferien
DESCRIPTION:Herzlich willkommen zurück und alles Gute für 2027 ❤️
URL:https://waldorfschule-potsdam.de/event/erster-schultag-nach-den-weihnachtsferien-4/
CATEGORIES:Kindergarten,Schule
END:VEVENT
BEGIN:VEVENT
DTSTART;VALUE=DATE:20270201
DTEND;VALUE=DATE:20270206
DTSTAMP:20260420T095539
CREATED:20260219T082531Z
LAST-MODIFIED:20260219T082531Z
UID:8349-1801440000-1801871999@waldorfschule-potsdam.de
SUMMARY:Winterferien ☃️
DESCRIPTION:Juhu\, juhu!\nHeut weiß ich\, was ich tu‘.\nSchneit der Schnee auf Feld und Haus\,\nhol‘ ich meinen Schlitten raus\,\nsetz‘ mein Hannchen hinten drauf\,\nziehe es den Berg hinauf\,\nund dann fahr’n wir munter\nden ganzen Berg hinunter. \n(Gedicht: Clara Möller)
URL:https://waldorfschule-potsdam.de/event/winterferien-%e2%98%83%ef%b8%8f-3/
CATEGORIES:Kindergarten,Schule
END:VEVENT
BEGIN:VEVENT
DTSTART;VALUE=DATE:20270317
DTEND;VALUE=DATE:20270318
DTSTAMP:20260420T095539
CREATED:20260219T082854Z
LAST-MODIFIED:20260219T082854Z
UID:8353-1805241600-1805327999@waldorfschule-potsdam.de
SUMMARY:Pfingstmontag 🕊️
DESCRIPTION:Schule\, Hort und Kindergarten geschlossen
URL:https://waldorfschule-potsdam.de/event/pfingstmontag-%f0%9f%95%8a%ef%b8%8f-2/
CATEGORIES:Kindergarten,Schule
END:VEVENT
BEGIN:VEVENT
DTSTART;VALUE=DATE:20270322
DTEND;VALUE=DATE:20270403
DTSTAMP:20260420T095539
CREATED:20260219T082710Z
LAST-MODIFIED:20260219T082710Z
UID:8351-1805673600-1806710399@waldorfschule-potsdam.de
SUMMARY:Osterferien 🐇
DESCRIPTION:Frohe Ostern!
URL:https://waldorfschule-potsdam.de/event/osterferien-%f0%9f%90%87-4/
CATEGORIES:Kindergarten,Schule
END:VEVENT
BEGIN:VEVENT
DTSTART;VALUE=DATE:20270506
DTEND;VALUE=DATE:20270507
DTSTAMP:20260420T095539
CREATED:20260219T083756Z
LAST-MODIFIED:20260219T083756Z
UID:8362-1809561600-1809647999@waldorfschule-potsdam.de
SUMMARY:Christi Himmelfahrt
DESCRIPTION:Schule\, Hort und Kindergarten geschlossen.
URL:https://waldorfschule-potsdam.de/event/christi-himmelfahrt-4/
CATEGORIES:Kindergarten,Schule
END:VEVENT
END:VCALENDAR